BEGIN:VCALENDAR
VERSION:2.0
PRODID:-//Safe Haven Ministries - ECPv6.15.20//NONSGML v1.0//EN
CALSCALE:GREGORIAN
METHOD:PUBLISH
X-WR-CALNAME:Safe Haven Ministries
X-ORIGINAL-URL:https://safehavenministries.org
X-WR-CALDESC:Events for Safe Haven Ministries
REFRESH-INTERVAL;VALUE=DURATION:PT1H
X-Robots-Tag:noindex
X-PUBLISHED-TTL:PT1H
BEGIN:VTIMEZONE
TZID:America/Detroit
BEGIN:DAYLIGHT
TZOFFSETFROM:-0500
TZOFFSETTO:-0400
TZNAME:EDT
DTSTART:20240310T070000
END:DAYLIGHT
BEGIN:STANDARD
TZOFFSETFROM:-0400
TZOFFSETTO:-0500
TZNAME:EST
DTSTART:20241103T060000
END:STANDARD
BEGIN:DAYLIGHT
TZOFFSETFROM:-0500
TZOFFSETTO:-0400
TZNAME:EDT
DTSTART:20250309T070000
END:DAYLIGHT
BEGIN:STANDARD
TZOFFSETFROM:-0400
TZOFFSETTO:-0500
TZNAME:EST
DTSTART:20251102T060000
END:STANDARD
BEGIN:DAYLIGHT
TZOFFSETFROM:-0500
TZOFFSETTO:-0400
TZNAME:EDT
DTSTART:20260308T070000
END:DAYLIGHT
BEGIN:STANDARD
TZOFFSETFROM:-0400
TZOFFSETTO:-0500
TZNAME:EST
DTSTART:20261101T060000
END:STANDARD
END:VTIMEZONE
BEGIN:VEVENT
DTSTART;TZID=America/Detroit:20250226T083000
DTEND;TZID=America/Detroit:20250226T093000
DTSTAMP:20260421T152314
CREATED:20250207T194830Z
LAST-MODIFIED:20250210T202643Z
UID:10000176-1740558600-1740562200@safehavenministries.org
SUMMARY:Coffee With Our CEO
DESCRIPTION:Please join us on February 26th for Coffee With Our CEO! \nCoffee & refreshments will be provided from 8:30-9:30am as we invite all interested to join CEO\, Rachel VerWys and learn more about Safe Haven Ministries. \n“When you work in the space of supporting survivors\, you will see the resilience and the strength come through time and time again.” \n 
URL:https://safehavenministries.org/event/coffee-with-our-ceo/
LOCATION:Michigan
END:VEVENT
END:VCALENDAR