BEGIN:VCALENDAR
VERSION:2.0
PRODID:-//Safe Haven Ministries - ECPv6.15.20//NONSGML v1.0//EN
CALSCALE:GREGORIAN
METHOD:PUBLISH
X-ORIGINAL-URL:https://safehavenministries.org
X-WR-CALDESC:Events for Safe Haven Ministries
REFRESH-INTERVAL;VALUE=DURATION:PT1H
X-Robots-Tag:noindex
X-PUBLISHED-TTL:PT1H
BEGIN:VTIMEZONE
TZID:America/Detroit
BEGIN:DAYLIGHT
TZOFFSETFROM:-0500
TZOFFSETTO:-0400
TZNAME:EDT
DTSTART:20210314T070000
END:DAYLIGHT
BEGIN:STANDARD
TZOFFSETFROM:-0400
TZOFFSETTO:-0500
TZNAME:EST
DTSTART:20211107T060000
END:STANDARD
BEGIN:DAYLIGHT
TZOFFSETFROM:-0500
TZOFFSETTO:-0400
TZNAME:EDT
DTSTART:20220313T070000
END:DAYLIGHT
BEGIN:STANDARD
TZOFFSETFROM:-0400
TZOFFSETTO:-0500
TZNAME:EST
DTSTART:20221106T060000
END:STANDARD
BEGIN:DAYLIGHT
TZOFFSETFROM:-0500
TZOFFSETTO:-0400
TZNAME:EDT
DTSTART:20230312T070000
END:DAYLIGHT
BEGIN:STANDARD
TZOFFSETFROM:-0400
TZOFFSETTO:-0500
TZNAME:EST
DTSTART:20231105T060000
END:STANDARD
END:VTIMEZONE
BEGIN:VEVENT
DTSTART;TZID=America/Detroit:20220429T090000
DTEND;TZID=America/Detroit:20220429T120000
DTSTAMP:20260421T200450
CREATED:20220215T201038Z
LAST-MODIFIED:20220215T201555Z
UID:10000125-1651222800-1651233600@safehavenministries.org
SUMMARY:Domestic Violence Seminar
DESCRIPTION:The $7.00 registration fee covers all learning materials. \nIf you are a student or volunteer\, the fee for training is waived. Please select the “Free” option on the registration form. \nPlease note that this seminar is not the best environment for an individual who is currently experiencing domestic abuse. Call for more information about support groups\, or if your interest comes from concern for a loved one\, consider calling Safe Haven and inquiring about our next Friends and Family Seminar. \nDue to Safe Haven Ministries’ categorization as a residential care facility\, masks are required upon entry and when walking throughout the building. Once in the training room\, masks are optional\, but encouraged. \nPlease contact us at 616-452-6664 or admin@shmgr.org with questions. \nREGISTER HERE>
URL:https://safehavenministries.org/event/domestic-violence-seminar/
CATEGORIES:Domestic Violence Seminar
END:VEVENT
END:VCALENDAR