BEGIN:VCALENDAR
VERSION:2.0
PRODID:-//Safe Haven Ministries - ECPv6.15.20//NONSGML v1.0//EN
CALSCALE:GREGORIAN
METHOD:PUBLISH
X-WR-CALNAME:Safe Haven Ministries
X-ORIGINAL-URL:https://safehavenministries.org
X-WR-CALDESC:Events for Safe Haven Ministries
REFRESH-INTERVAL;VALUE=DURATION:PT1H
X-Robots-Tag:noindex
X-PUBLISHED-TTL:PT1H
BEGIN:VTIMEZONE
TZID:America/Detroit
BEGIN:DAYLIGHT
TZOFFSETFROM:-0500
TZOFFSETTO:-0400
TZNAME:EDT
DTSTART:20230312T070000
END:DAYLIGHT
BEGIN:STANDARD
TZOFFSETFROM:-0400
TZOFFSETTO:-0500
TZNAME:EST
DTSTART:20231105T060000
END:STANDARD
BEGIN:DAYLIGHT
TZOFFSETFROM:-0500
TZOFFSETTO:-0400
TZNAME:EDT
DTSTART:20240310T070000
END:DAYLIGHT
BEGIN:STANDARD
TZOFFSETFROM:-0400
TZOFFSETTO:-0500
TZNAME:EST
DTSTART:20241103T060000
END:STANDARD
BEGIN:DAYLIGHT
TZOFFSETFROM:-0500
TZOFFSETTO:-0400
TZNAME:EDT
DTSTART:20250309T070000
END:DAYLIGHT
BEGIN:STANDARD
TZOFFSETFROM:-0400
TZOFFSETTO:-0500
TZNAME:EST
DTSTART:20251102T060000
END:STANDARD
BEGIN:DAYLIGHT
TZOFFSETFROM:-0500
TZOFFSETTO:-0400
TZNAME:EDT
DTSTART:20260308T070000
END:DAYLIGHT
BEGIN:STANDARD
TZOFFSETFROM:-0400
TZOFFSETTO:-0500
TZNAME:EST
DTSTART:20261101T060000
END:STANDARD
END:VTIMEZONE
BEGIN:VEVENT
DTSTART;TZID=America/Detroit:20241111T090000
DTEND;TZID=America/Detroit:20241111T120000
DTSTAMP:20260421T174804
CREATED:20240916T171626Z
LAST-MODIFIED:20241104T162655Z
UID:10000169-1731315600-1731326400@safehavenministries.org
SUMMARY:Domestic Violence & Anti-Trafficking Seminar
DESCRIPTION:The $25.00 registration fee covers all learning materials. \nIf you are a staff\, active student\, volunteer or intern\, the fee for training is waived. Please select this option on the registration form. \nPlease note that this seminar is not the best environment for an individual who is currently experiencing domestic abuse or human trafficking. Please call or text our hotline if you would like information on support groups: 616-452-6664 \nPlease contact us at 616-452-6664 or prevention@shmgr.org with questions. \n*** REGISTER HERE ***
URL:https://safehavenministries.org/event/dv-ats-5-21-3/
LOCATION:Safe Haven Ministries\, 2627 Birchcrest Dr. SE\, Grand Rapids\, Michigan\, 49506
CATEGORIES:Domestic Violence Seminar
END:VEVENT
BEGIN:VEVENT
DTSTART;TZID=America/Detroit:20250118T090000
DTEND;TZID=America/Detroit:20250118T120000
DTSTAMP:20260421T174804
CREATED:20241101T142342Z
LAST-MODIFIED:20241104T162735Z
UID:10000105-1737190800-1737201600@safehavenministries.org
SUMMARY:Domestic Violence & Anti-Trafficking Seminar
DESCRIPTION:The $25.00 registration fee covers all learning materials. \nIf you are a Safe Haven Ministries staff and/or active student\, volunteer or intern\, the fee for training is waived. Please select this option on the registration form. \nNOTE: This seminar is not the best environment for an individual currently experiencing domestic abuse or human trafficking. Please call or text our hotline if you would like information on support groups: 616-452-6664. \nFor questions\, contact Safe Haven at 616-452-6664 or prevention@shmgr.org. \n*** REGISTER HERE ***
URL:https://safehavenministries.org/event/dv-ats-5-21-3-2/
LOCATION:Safe Haven Ministries\, 2627 Birchcrest Dr. SE\, Grand Rapids\, Michigan\, 49506
CATEGORIES:Domestic Violence Seminar
END:VEVENT
BEGIN:VEVENT
DTSTART;TZID=America/Detroit:20250203T130000
DTEND;TZID=America/Detroit:20250203T160000
DTSTAMP:20260421T174805
CREATED:20241104T183219Z
LAST-MODIFIED:20241104T185806Z
UID:10000110-1738587600-1738598400@safehavenministries.org
SUMMARY:Domestic Violence & Anti-Trafficking Seminar
DESCRIPTION:The $25.00 registration fee covers all learning materials. \nIf you are a staff\, active student\, volunteer or intern\, the fee for training is waived. Please select this option on the registration form. \nPlease note that this seminar is not the best environment for an individual who is currently experiencing domestic abuse or human trafficking. Please call or text our hotline if you would like information on support groups: 616-452-6664 \nPlease contact us at 616-452-6664 or prevention@shmgr.org with questions. \n*** REGISTER HERE ***
URL:https://safehavenministries.org/event/domestic-violence-anti-trafficking-seminar/
LOCATION:Michigan
CATEGORIES:Domestic Violence Seminar
END:VEVENT
BEGIN:VEVENT
DTSTART;TZID=America/Detroit:20250326T090000
DTEND;TZID=America/Detroit:20250326T120000
DTSTAMP:20260421T174805
CREATED:20241104T183351Z
LAST-MODIFIED:20241104T183351Z
UID:10000112-1742979600-1742990400@safehavenministries.org
SUMMARY:Domestic Violence & Anti-Trafficking Seminar
DESCRIPTION:The $25.00 registration fee covers all learning materials. \nIf you are a staff\, active student\, volunteer or intern\, the fee for training is waived. Please select this option on the registration form. \nPlease note that this seminar is not the best environment for an individual who is currently experiencing domestic abuse or human trafficking. Please call or text our hotline if you would like information on support groups: 616-452-6664 \nPlease contact us at 616-452-6664 or prevention@shmgr.org with questions. \n*** REGISTER HERE ***
URL:https://safehavenministries.org/event/domestic-violence-anti-trafficking-seminar-2/
LOCATION:Michigan
CATEGORIES:Domestic Violence Seminar
END:VEVENT
BEGIN:VEVENT
DTSTART;TZID=America/Detroit:20250506T090000
DTEND;TZID=America/Detroit:20250506T120000
DTSTAMP:20260421T174805
CREATED:20241104T183452Z
LAST-MODIFIED:20241104T183452Z
UID:10000114-1746522000-1746532800@safehavenministries.org
SUMMARY:Domestic Violence & Anti-Trafficking Seminar
DESCRIPTION:The $25.00 registration fee covers all learning materials. \nIf you are a staff\, active student\, volunteer or intern\, the fee for training is waived. Please select this option on the registration form. \nPlease note that this seminar is not the best environment for an individual who is currently experiencing domestic abuse or human trafficking. Please call or text our hotline if you would like information on support groups: 616-452-6664 \nPlease contact us at 616-452-6664 or prevention@shmgr.org with questions. \n*** REGISTER HERE ***
URL:https://safehavenministries.org/event/domestic-violence-anti-trafficking-seminar-3/
LOCATION:Michigan
CATEGORIES:Domestic Violence Seminar
END:VEVENT
BEGIN:VEVENT
DTSTART;TZID=America/Detroit:20250625T090000
DTEND;TZID=America/Detroit:20250625T120000
DTSTAMP:20260421T174805
CREATED:20241104T183556Z
LAST-MODIFIED:20241104T183556Z
UID:10000116-1750842000-1750852800@safehavenministries.org
SUMMARY:Domestic Violence & Anti-Trafficking Seminar
DESCRIPTION:The $25.00 registration fee covers all learning materials. \nIf you are a staff\, active student\, volunteer or intern\, the fee for training is waived. Please select this option on the registration form. \nPlease note that this seminar is not the best environment for an individual who is currently experiencing domestic abuse or human trafficking. Please call or text our hotline if you would like information on support groups: 616-452-6664 \nPlease contact us at 616-452-6664 or prevention@shmgr.org with questions. \n*** REGISTER HERE ***
URL:https://safehavenministries.org/event/domestic-violence-anti-trafficking-seminar-4/
LOCATION:Michigan
CATEGORIES:Domestic Violence Seminar
END:VEVENT
END:VCALENDAR