BEGIN:VCALENDAR
VERSION:2.0
PRODID:-//Safe Haven Ministries - ECPv6.15.20//NONSGML v1.0//EN
CALSCALE:GREGORIAN
METHOD:PUBLISH
X-ORIGINAL-URL:https://safehavenministries.org
X-WR-CALDESC:Events for Safe Haven Ministries
REFRESH-INTERVAL;VALUE=DURATION:PT1H
X-Robots-Tag:noindex
X-PUBLISHED-TTL:PT1H
BEGIN:VTIMEZONE
TZID:America/Detroit
BEGIN:DAYLIGHT
TZOFFSETFROM:-0500
TZOFFSETTO:-0400
TZNAME:EDT
DTSTART:20240310T070000
END:DAYLIGHT
BEGIN:STANDARD
TZOFFSETFROM:-0400
TZOFFSETTO:-0500
TZNAME:EST
DTSTART:20241103T060000
END:STANDARD
BEGIN:DAYLIGHT
TZOFFSETFROM:-0500
TZOFFSETTO:-0400
TZNAME:EDT
DTSTART:20250309T070000
END:DAYLIGHT
BEGIN:STANDARD
TZOFFSETFROM:-0400
TZOFFSETTO:-0500
TZNAME:EST
DTSTART:20251102T060000
END:STANDARD
BEGIN:DAYLIGHT
TZOFFSETFROM:-0500
TZOFFSETTO:-0400
TZNAME:EDT
DTSTART:20260308T070000
END:DAYLIGHT
BEGIN:STANDARD
TZOFFSETFROM:-0400
TZOFFSETTO:-0500
TZNAME:EST
DTSTART:20261101T060000
END:STANDARD
END:VTIMEZONE
BEGIN:VEVENT
DTSTART;TZID=America/Detroit:20250506T090000
DTEND;TZID=America/Detroit:20250506T120000
DTSTAMP:20260421T104414
CREATED:20241104T183452Z
LAST-MODIFIED:20241104T183452Z
UID:10000114-1746522000-1746532800@safehavenministries.org
SUMMARY:Domestic Violence & Anti-Trafficking Seminar
DESCRIPTION:The $25.00 registration fee covers all learning materials. \nIf you are a staff\, active student\, volunteer or intern\, the fee for training is waived. Please select this option on the registration form. \nPlease note that this seminar is not the best environment for an individual who is currently experiencing domestic abuse or human trafficking. Please call or text our hotline if you would like information on support groups: 616-452-6664 \nPlease contact us at 616-452-6664 or prevention@shmgr.org with questions. \n*** REGISTER HERE ***
URL:https://safehavenministries.org/event/domestic-violence-anti-trafficking-seminar-3/
LOCATION:Michigan
CATEGORIES:Domestic Violence Seminar
END:VEVENT
BEGIN:VEVENT
DTSTART;TZID=America/Detroit:20250507T090000
DTEND;TZID=America/Detroit:20250507T120000
DTSTAMP:20260421T104414
CREATED:20250313T174419Z
LAST-MODIFIED:20250313T174732Z
UID:10000177-1746608400-1746619200@safehavenministries.org
SUMMARY:Open Space Event
DESCRIPTION:Save the date! \nYour business can help build communities where families thrive. \n  \nWhen: May 7th\, 2025 9am – 12pm \nWhere: MSU College of Human Medicine Secchia Center\, Christman Community Commons\n15 Michigan St. NE\, Grand Rapids\, MI 49503 \nJoin us for conversation\, networking\, and refreshments! \n  \n \n  \nRegister Now
URL:https://safehavenministries.org/event/open-space-event/
LOCATION:Michigan
END:VEVENT
BEGIN:VEVENT
DTSTART;TZID=America/Detroit:20250520T090000
DTEND;TZID=America/Detroit:20250520T110000
DTSTAMP:20260421T104414
CREATED:20241104T184122Z
LAST-MODIFIED:20241104T184122Z
UID:10000175-1747731600-1747738800@safehavenministries.org
SUMMARY:Human Trafficking Seminar
DESCRIPTION:The $25.00 registration fee covers all learning materials. \nIf you are a staff\, active student\, volunteer or intern\, the fee for training is waived. Please select this option on the registration form. \nPlease note that this seminar is not the best environment for an individual who is currently experiencing domestic abuse or human trafficking. Please call or text our hotline if you would like information on support groups: 616-452-6664 \nPlease contact us at 616-452-6664 or prevention@shmgr.org with questions. \nREGISTER HERE
URL:https://safehavenministries.org/event/human-trafficking-seminar-5/
LOCATION:Michigan
CATEGORIES:Human Trafficking Seminar
END:VEVENT
END:VCALENDAR